BEGIN:VCALENDAR
VERSION:2.0
PRODID:-//Coralica - ECPv6.15.20//NONSGML v1.0//EN
CALSCALE:GREGORIAN
METHOD:PUBLISH
X-ORIGINAL-URL:https://www.coralica.it
X-WR-CALDESC:Eventi per Coralica
REFRESH-INTERVAL;VALUE=DURATION:PT1H
X-Robots-Tag:noindex
X-PUBLISHED-TTL:PT1H
BEGIN:VTIMEZONE
TZID:UTC
BEGIN:STANDARD
TZOFFSETFROM:+0000
TZOFFSETTO:+0000
TZNAME:UTC
DTSTART:20240101T000000
END:STANDARD
END:VTIMEZONE
BEGIN:VEVENT
DTSTART;VALUE=DATE:20250828
DTEND;VALUE=DATE:20250901
DTSTAMP:20260424T194952
CREATED:20250410T100955Z
LAST-MODIFIED:20260317T214325Z
UID:52383-1756339200-1756684799@www.coralica.it
SUMMARY:CONCLUSO - Direzione di Coro e d'Orchestra II Livello con Alberto Maniaci e Enzo Marino
DESCRIPTION:Immergiti nel mondo della direzione musicale con la nostra Masterclass Intensiva\, un programma esclusivo progettato per affinare le tue abilità sia nella direzione di coro che d’orchestra. \nQuesta esperienza unica\, che si svolge all’interno della Settimana della Musica 2025\, offre ai partecipanti l’opportunità di lavorare a stretto contatto con maestri Enzo Marino per la direzione di coro e Alberto Maniaci per la direzione d’orchestra. \nChe tu sia un direttore emergente o un musicista esperto desideroso di ampliare le tue competenze\, questa masterclass è stata pensata per ispirare\, sfidare e affinare le tue capacità artistiche. \nMasterclass/pacchetto che comprende le seguenti discipline: Direzione di Coro II Livello e Direzione d’Orchestra II Livello \nSaggio di fine corso 31 agosto – ore 21:30 presso la Basilica Santuario Madonna della Milicia con esecuzione del seguente programma: \n– G. Rossini – Petite Messe Solennelle per Soli\, Coro e Orchestra \n– Coro Symposium – Coro Masterclass \n– Orchestra Mediterranea \nTermine iscrizioni 31/07/2025 \nFederati Inchorus €480\,00 \nQuota d’iscrizione/acconto €250\,00 \nAcquistabile con carta del Docente –  Codice 25980 \nIscriviti\n 
URL:https://www.coralica.it/event/direzione-di-coro-e-dorchestra-ii-livello-con-alberto-maniaci-e-enzo-marino/
LOCATION:Altavilla Milicia\, Via Nazario Sauro\, 38\, Altavilla Milicia\, PA\, 90010\, Italy
CATEGORIES:Masterclass Settimana della Musica
ATTACH;FMTTYPE=image/jpeg:https://www.coralica.it/wp-content/uploads/2025/04/28-31-agosto-direttori-coro-alberto-maniaci-e-enzo-marino.jpg
ORGANIZER;CN="Associazione Coralica":MAILTO:coralica.ets@gmail.com
END:VEVENT
BEGIN:VEVENT
DTSTART;VALUE=DATE:20250829
DTEND;VALUE=DATE:20250901
DTSTAMP:20260424T194952
CREATED:20250410T101228Z
LAST-MODIFIED:20260317T214137Z
UID:52377-1756425600-1756684799@www.coralica.it
SUMMARY:CONCLUSO - Tecnica Vocale ed Espressiva del Corista con Enzo Marino
DESCRIPTION:Unisciti a noi in una straordinaria opportunità di apprendimento con il Maestro Enzo Marino e il suo innovativo Metodo Reticolare non Idiomatico. \nQuesta masterclass è progettata per coristi di tutti i livelli che desiderano affinare la propria tecnica vocale ed espressiva\, attraverso un approccio che integra armoniosamente teoria e pratica. \nIl Metodo Reticolare non Idiomatico del Maestro Marino offre un percorso unico che si distacca dalle convenzioni tradizionali\, concentrandosi sull’esplorazione della voce come strumento versatile e potente. Attraverso tecniche specifiche\, gli studenti impareranno a sbloccare nuove potenzialità vocali\, migliorare la resa espressiva e acquisire maggiore fiducia nelle performance corali. \nCosa Imparerai: \n\nFondamenti del Metodo Reticolare non Idiomatico: comprensione e applicazione pratica.\nTecniche avanzate di respirazione e riscaldamento vocale per ottimizzare la performance.\nStrategie per un’intonazione precisa e un controllo dinamico della voce.\nMetodi per sviluppare una maggiore consapevolezza del proprio strumento vocale e come usarlo espressivamente.\nApprocci per il lavoro di gruppo e la coesione corale\, fondamentali per un’efficace performance corale.\n\nChi Dovrebbe Partecipare: Questo corso è ideale per coristi\, direttori di coro\, studenti di musica e insegnanti vocali che desiderano esplorare nuove dimensioni della tecnica vocale e espressiva. È particolarmente indicato per coloro che sono aperti a sperimentare e ad adottare un approccio non convenzionale all’apprendimento vocale. \nEnzo Marino: Il Maestro Enzo Marino è un pioniere nel campo della tecnica vocale\, noto per il suo approccio innovativo e rivoluzionario alla formazione corale. Con anni di esperienza come educatore vocale e direttore di coro\, ha sviluppato il Metodo Reticolare non Idiomatico\, che ha trasformato il modo in cui i coristi approcciano la loro arte. La sua passione e dedizione all’insegnamento lo rendono un mentore eccezionale per chiunque desideri esplorare nuove frontiere vocali. \nRiservato a Coristi\, Animatori Liturgici\, Cantori. \nSaggio di fine corso 31 agosto – ore 21:30 presso la Basilica Santuario Madonna della Milicia con esecuzione del seguente programma: \nG. Rossini – Petite Messe Solennelle per Soli\, Coro e Orchestra \nTermine iscrizioni 31/07/2025 \nQuota d’iscrizione/acconto €30\,00 \nAcquistabile con carta del Docente – Codice 25976 \nIscriviti\n 
URL:https://www.coralica.it/event/tecnica-vocale-ed-espressiva-del-corista-con-enzo-marino/
LOCATION:Altavilla Milicia\, Via Nazario Sauro\, 38\, Altavilla Milicia\, PA\, 90010\, Italy
CATEGORIES:Masterclass Settimana della Musica
ATTACH;FMTTYPE=image/jpeg:https://www.coralica.it/wp-content/uploads/2025/05/29-31-tecnica-vocale-enzo-marino.jpg
ORGANIZER;CN="Associazione Coralica":MAILTO:coralica.ets@gmail.com
END:VEVENT
END:VCALENDAR